BEGIN:VCALENDAR
VERSION:2.0
PRODID:-//BJA Group - ECPv5.16.3//NONSGML v1.0//EN
CALSCALE:GREGORIAN
METHOD:PUBLISH
X-WR-CALNAME:BJA Group
X-ORIGINAL-URL:https://bjagroup.net
X-WR-CALDESC:Events for BJA Group
REFRESH-INTERVAL;VALUE=DURATION:PT1H
X-Robots-Tag:noindex
X-PUBLISHED-TTL:PT1H
BEGIN:VTIMEZONE
TZID:Europe/Zurich
BEGIN:DAYLIGHT
TZOFFSETFROM:+0100
TZOFFSETTO:+0200
TZNAME:CEST
DTSTART:20240331T010000
END:DAYLIGHT
BEGIN:STANDARD
TZOFFSETFROM:+0200
TZOFFSETTO:+0100
TZNAME:CET
DTSTART:20241027T010000
END:STANDARD
END:VTIMEZONE
BEGIN:VEVENT
DTSTART;VALUE=DATE:20240310
DTEND;VALUE=DATE:20240312
DTSTAMP:20260423T130146
CREATED:20240223T041521Z
LAST-MODIFIED:20240223T041521Z
UID:3059-1710028800-1710201599@bjagroup.net
SUMMARY:2024 NBAA PDP Course: Essentials in Scheduling & Dispatch for Business Aviation
DESCRIPTION:Held prior to the 2024 NBAA Schedulers & Dispatchers Conference\, this two-day course is designed for all aviation professionals. It is a good refresher for certified dispatchers wishing to update their knowledge and skills with the latest information about the duties and responsibilities of an aircraft dispatcher\, and it is a great course for those who would like to increase their aviation knowledge overall. The course is open to schedulers and other aviation professionals considering enrollment in a dispatch license program. This course will cover topics related to regulations\, advanced planning\, pre-flight requirements\, weather\, flight planning and in-flight support considerations for aircraft dispatchers supporting business aviation operations around the globe.
URL:https://bjagroup.net/event/2024-nbaa-pdp-course-essentials-in-scheduling-dispatch-for-business-aviation/
LOCATION:Omni Forth Worth Hotel\, Sundance 2\, Forth Worth\, TX\, United States
ATTACH;FMTTYPE=image/jpeg:https://bjagroup.net/wp-content/uploads/2024/02/nbaa_2024_essentials_scheduling.jpg
END:VEVENT
BEGIN:VEVENT
DTSTART;VALUE=DATE:20240311
DTEND;VALUE=DATE:20240312
DTSTAMP:20260423T130146
CREATED:20240223T041827Z
LAST-MODIFIED:20240223T041827Z
UID:3063-1710115200-1710201599@bjagroup.net
SUMMARY:2024 NBAA PDP Course: Dynamics of Empowered Leadership
DESCRIPTION:Held prior to the 2024 NBAA Schedulers & Dispatchers Conference\, this one-day course trains attendees to lead from any seat in a dynamic workplace that is adapting to changing times. \nSome workplace challenges are obvious (interruptions\, awkward social interactions) and some are more subtle (passive-aggressive behaviors). Leadership empowers your team to work through these issues. \nLeadership also requires a strong degree of situational awareness of your own thoughts and actions\, and how they affect the behaviors of others. This course will cover the influence behavioral and communication styles have on your team interactions and operational safety. You will learn a variety of methods to motivate and mentor. Real-world examples and applications will be discussed.
URL:https://bjagroup.net/event/2024-nbaa-pdp-course-dynamics-of-empowered-leadership/
LOCATION:Omni Forth Worth Hotel\, Sundance 2\, Forth Worth\, TX\, United States
ATTACH;FMTTYPE=image/jpeg:https://bjagroup.net/wp-content/uploads/2024/02/nbaa_2024_dynamics_empowered.jpg
END:VEVENT
BEGIN:VEVENT
DTSTART;VALUE=DATE:20240312
DTEND;VALUE=DATE:20240315
DTSTAMP:20260423T130146
CREATED:20230902T091527Z
LAST-MODIFIED:20230902T091527Z
UID:3018-1710201600-1710460799@bjagroup.net
SUMMARY:ICAO Innovation Fair "Digital Aviation: the Future is Now"
DESCRIPTION:The theme of the 2024 ICAO Innovation Fair will be “Digital Aviation: the Future is Now” and will be held over three days. The Fair will allow for representatives of States\, international organizations\, industry\, private sector\, academia\, aviation research\, United Nations and non-governmental organizations (NGOs) to have substantive conversations on innovation in aviation and how to adjust systems\, processes\, structures to better ensure future innovation brings value for aviation and its contribution to States achievement of the United Nations Sustainable Development Goals. \nThe 2024 Innovation Fair will welcome start-ups\, academia and research centres to share their experience regarding the experimentation and development of innovative digital technologies or services for aviation. In particular\, the finalists of the ICAO Innovation Competition will be invited to present their innovative ideas.
URL:https://bjagroup.net/event/icao-innovation-fair-digital-aviation-the-future-is-now/
LOCATION:ICAO HQ\, 999 Robert-Bourassa Boulevard\, Montréal\, Canada
ATTACH;FMTTYPE=image/jpeg:https://bjagroup.net/wp-content/uploads/2023/09/ICAO_innovation_fair.jpg
END:VEVENT
BEGIN:VEVENT
DTSTART;VALUE=DATE:20240312
DTEND;VALUE=DATE:20240315
DTSTAMP:20260423T130146
CREATED:20240223T042229Z
LAST-MODIFIED:20240223T042229Z
UID:3066-1710201600-1710460799@bjagroup.net
SUMMARY:2024 NBAA Schedulers & Dispatchers Conference (SDC2024)
DESCRIPTION:SDC2024 Fort Worth – Engage & Empower: Where Your Quest Begins \nDiscover unmatched opportunities at the industry’s best business aviation scheduling and dispatching event! SDC2024 is the place to be if you’re ready to enhance your logistical planning\, and experience the most advanced dispatch technologies and leading-edge equipment designed to drive your flight department operations towards success. Stay up-to-date with the best scheduling and dispatching practices through expert-lead education sessions\, while enjoying an unparalleled networking experience and an opportunity to connect with hundreds of exhibitors showcasing top flight business aviation services. Register now to attend this unique event that you won’t want to miss!
URL:https://bjagroup.net/event/2024-nbaa-schedulers-dispatchers-conference-sdc2024/
LOCATION:Forth Worth Convention Center\, Forth Worth\, TX\, United States
ATTACH;FMTTYPE=image/jpeg:https://bjagroup.net/wp-content/uploads/2024/02/nbaa_2024_dispatcher_conference.jpg
END:VEVENT
BEGIN:VEVENT
DTSTART;VALUE=DATE:20240315
DTEND;VALUE=DATE:20240316
DTSTAMP:20260423T130146
CREATED:20240223T042530Z
LAST-MODIFIED:20240223T042530Z
UID:3070-1710460800-1710547199@bjagroup.net
SUMMARY:2024 NBAA PDP Course: Leadership Excellence for Business Aviation
DESCRIPTION:Skills to Elevate\, Communicate and Collaborate in Today’s Industry \nLeadership is not a title; it’s a dynamic set of behaviors\, practices and tools that inspire and influence others\, encourage collaboration\, and allow sound decision making. In our fast-paced\, changing and demanding industry\, leadership also necessitates adaptability\, resilience and compassion. \nThrough case studies\, discussions and sharing of best practices\, this one-day\, highly interactive leadership PDP course will examine what it means and takes to be a leader in business aviation\, including building relationships\, mindful communication\, inclusive collaboration\, self-awareness and fostering a culture of safety and service. Participants will gain crucial skills and tools to excel as a leader\, navigate daily complex challenges and make a positive impact on the success of their team and organization. \nThis course covers NBAA PDP leadership objective L3.
URL:https://bjagroup.net/event/2024-nbaa-pdp-course-leadership-excellence-for-business-aviation/
LOCATION:Western Michigan University College of Aviation\, Battle Creek\, MI\, United States
ATTACH;FMTTYPE=image/jpeg:https://bjagroup.net/wp-content/uploads/2024/02/nbaa_2024_leadership_excellence.jpg
END:VEVENT
BEGIN:VEVENT
DTSTART;VALUE=DATE:20240325
DTEND;VALUE=DATE:20240326
DTSTAMP:20260423T130146
CREATED:20240223T042806Z
LAST-MODIFIED:20240223T042806Z
UID:3074-1711324800-1711411199@bjagroup.net
SUMMARY:2024 NBAA PDP Course: Regulatory Compliance & Documentation
DESCRIPTION:Held in conjunction with the 2024 NBAA International Operators Conference\, this course reviews the major compliance requirements of the DOT\, FAA\, IRS\, TSA\, OSHA and DOA. Participants will work through record keeping best practices and discuss audit standards and safety management systems. Participants will learn how to spot red flags in aircraft operating structures (for example\, the flight department company trap and aircraft registration issues). This is an interactive course\, not a lecture. The presenters will walk participants through operating scenarios and discuss possible outcomes and the legal implications of the participants’ decisions. For example\, if ATC gives you a number\, should you call? What happens if you receive a Letter of Investigation from the FAA? When should an operator use a timeshare instead of a dry lease? Participants are encouraged to participate in the discussions and share their experiences.
URL:https://bjagroup.net/event/2024-nbaa-pdp-course-regulatory-compliance-documentation/
LOCATION:Hyatt Regency\, Orlando\, FL\, United States
ATTACH;FMTTYPE=image/jpeg:https://bjagroup.net/wp-content/uploads/2024/02/nbaa_2024_regulatory_compliance.jpg
END:VEVENT
BEGIN:VEVENT
DTSTART;VALUE=DATE:20240326
DTEND;VALUE=DATE:20240329
DTSTAMP:20260423T130146
CREATED:20240223T042959Z
LAST-MODIFIED:20240223T042959Z
UID:3078-1711411200-1711670399@bjagroup.net
SUMMARY:2024 NBAA International Operators Conference (IOC2024)
DESCRIPTION:Aviate and Communicate – Bringing Inspiration to Your International Operations \nAttend the 2024 NBAA International Operators Conference (IOC2024) to network and collaborate with fellow aviators\, gaining access to the latest real-time information crucial for efficient aircraft operations worldwide. Stay ahead with up-to-the-minute insights and updates\, empowering you to excel in managing aviation activities across diverse regions.
URL:https://bjagroup.net/event/2024-nbaa-international-operators-conference-ioc2024/
LOCATION:Hyatt Regency\, Orlando\, FL\, United States
ATTACH;FMTTYPE=image/jpeg:https://bjagroup.net/wp-content/uploads/2024/02/nbaa_2024_operators_conference.jpg
END:VEVENT
END:VCALENDAR