BEGIN:VCALENDAR
VERSION:2.0
PRODID:-//BJA Group - ECPv5.16.3//NONSGML v1.0//EN
CALSCALE:GREGORIAN
METHOD:PUBLISH
X-WR-CALNAME:BJA Group
X-ORIGINAL-URL:https://bjagroup.net
X-WR-CALDESC:Events for BJA Group
REFRESH-INTERVAL;VALUE=DURATION:PT1H
X-Robots-Tag:noindex
X-PUBLISHED-TTL:PT1H
BEGIN:VTIMEZONE
TZID:Europe/Zurich
BEGIN:DAYLIGHT
TZOFFSETFROM:+0100
TZOFFSETTO:+0200
TZNAME:CEST
DTSTART:20240331T010000
END:DAYLIGHT
BEGIN:STANDARD
TZOFFSETFROM:+0200
TZOFFSETTO:+0100
TZNAME:CET
DTSTART:20241027T010000
END:STANDARD
END:VTIMEZONE
BEGIN:VEVENT
DTSTART;VALUE=DATE:20240220
DTEND;VALUE=DATE:20240226
DTSTAMP:20260423T130115
CREATED:20230902T095310Z
LAST-MODIFIED:20230902T095310Z
UID:3026-1708387200-1708905599@bjagroup.net
SUMMARY:Singapore Airshow
DESCRIPTION:Where Aviation’s Finest Meet \nEvery two years\, high-level government and military delegations\, as well as senior corporate executives around the world attend the Singapore Airshow to forge partnerships and seal deals in this region. As Asia’s most influential airshow\, this is the place to be for leading aerospace companies and budding players eager to make their mark in the international aerospace and defence market!
URL:https://bjagroup.net/event/singapore-airshow/
LOCATION:Changi Exhibition Centre\, Singapore
ATTACH;FMTTYPE=image/jpeg:https://bjagroup.net/wp-content/uploads/2023/09/SG_airshow.jpg
END:VEVENT
BEGIN:VEVENT
DTSTART;VALUE=DATE:20240221
DTEND;VALUE=DATE:20240223
DTSTAMP:20260423T130115
CREATED:20230902T092948Z
LAST-MODIFIED:20230902T092948Z
UID:3022-1708473600-1708646399@bjagroup.net
SUMMARY:Aerospace Meetings Queretaro
DESCRIPTION:The leading Aerospace supply chain event in Mexico \nAerospace Meetings Queretaro is the international platform in Mexico for prime OEMs to connect with companies offering the right capabilities and services through a matchmaking program. \nThe organizer\, BCI Aerospace\, is recognized worldwide for the quality of the matchmaking programs in the aerospace and defense industries.  \nIt is the organizer of the Aeromart series: Aeromart Toulouse\, Aeromart Montréal\, Aeromart Summit Tianjin and Aeromart Nagoya.
URL:https://bjagroup.net/event/aerospace-meetings-queretaro/
LOCATION:Centro de Congresos Querétaro\, Calle Paseo de las Artes 1531-B\, Josefa Vergara\, Santiago de Querétaro\, 76090\, Mexico
ATTACH;FMTTYPE=image/jpeg:https://bjagroup.net/wp-content/uploads/2023/09/aerospace_meetings_mexico_2024.jpg
END:VEVENT
END:VCALENDAR