BEGIN:VCALENDAR
VERSION:2.0
PRODID:-//BJA Group - ECPv5.16.3//NONSGML v1.0//EN
CALSCALE:GREGORIAN
METHOD:PUBLISH
X-WR-CALNAME:BJA Group
X-ORIGINAL-URL:https://bjagroup.net
X-WR-CALDESC:Events for BJA Group
REFRESH-INTERVAL;VALUE=DURATION:PT1H
X-Robots-Tag:noindex
X-PUBLISHED-TTL:PT1H
BEGIN:VTIMEZONE
TZID:Europe/Zurich
BEGIN:DAYLIGHT
TZOFFSETFROM:+0100
TZOFFSETTO:+0200
TZNAME:CEST
DTSTART:20240331T010000
END:DAYLIGHT
BEGIN:STANDARD
TZOFFSETFROM:+0200
TZOFFSETTO:+0100
TZNAME:CET
DTSTART:20241027T010000
END:STANDARD
END:VTIMEZONE
BEGIN:VEVENT
DTSTART;VALUE=DATE:20240315
DTEND;VALUE=DATE:20240316
DTSTAMP:20260423T130009
CREATED:20240223T042530Z
LAST-MODIFIED:20240223T042530Z
UID:3070-1710460800-1710547199@bjagroup.net
SUMMARY:2024 NBAA PDP Course: Leadership Excellence for Business Aviation
DESCRIPTION:Skills to Elevate\, Communicate and Collaborate in Today’s Industry \nLeadership is not a title; it’s a dynamic set of behaviors\, practices and tools that inspire and influence others\, encourage collaboration\, and allow sound decision making. In our fast-paced\, changing and demanding industry\, leadership also necessitates adaptability\, resilience and compassion. \nThrough case studies\, discussions and sharing of best practices\, this one-day\, highly interactive leadership PDP course will examine what it means and takes to be a leader in business aviation\, including building relationships\, mindful communication\, inclusive collaboration\, self-awareness and fostering a culture of safety and service. Participants will gain crucial skills and tools to excel as a leader\, navigate daily complex challenges and make a positive impact on the success of their team and organization. \nThis course covers NBAA PDP leadership objective L3.
URL:https://bjagroup.net/event/2024-nbaa-pdp-course-leadership-excellence-for-business-aviation/
LOCATION:Western Michigan University College of Aviation\, Battle Creek\, MI\, United States
ATTACH;FMTTYPE=image/jpeg:https://bjagroup.net/wp-content/uploads/2024/02/nbaa_2024_leadership_excellence.jpg
END:VEVENT
END:VCALENDAR