BEGIN:VCALENDAR
VERSION:2.0
PRODID:-//BJA Group - ECPv5.16.3//NONSGML v1.0//EN
CALSCALE:GREGORIAN
METHOD:PUBLISH
X-ORIGINAL-URL:https://bjagroup.net
X-WR-CALDESC:Events for BJA Group
REFRESH-INTERVAL;VALUE=DURATION:PT1H
X-Robots-Tag:noindex
X-PUBLISHED-TTL:PT1H
BEGIN:VTIMEZONE
TZID:Europe/Zurich
BEGIN:DAYLIGHT
TZOFFSETFROM:+0100
TZOFFSETTO:+0200
TZNAME:CEST
DTSTART:20240331T010000
END:DAYLIGHT
BEGIN:STANDARD
TZOFFSETFROM:+0200
TZOFFSETTO:+0100
TZNAME:CET
DTSTART:20241027T010000
END:STANDARD
END:VTIMEZONE
BEGIN:VEVENT
DTSTART;VALUE=DATE:20240310
DTEND;VALUE=DATE:20240312
DTSTAMP:20260423T130227
CREATED:20240223T041521Z
LAST-MODIFIED:20240223T041521Z
UID:3059-1710028800-1710201599@bjagroup.net
SUMMARY:2024 NBAA PDP Course: Essentials in Scheduling & Dispatch for Business Aviation
DESCRIPTION:Held prior to the 2024 NBAA Schedulers & Dispatchers Conference\, this two-day course is designed for all aviation professionals. It is a good refresher for certified dispatchers wishing to update their knowledge and skills with the latest information about the duties and responsibilities of an aircraft dispatcher\, and it is a great course for those who would like to increase their aviation knowledge overall. The course is open to schedulers and other aviation professionals considering enrollment in a dispatch license program. This course will cover topics related to regulations\, advanced planning\, pre-flight requirements\, weather\, flight planning and in-flight support considerations for aircraft dispatchers supporting business aviation operations around the globe.
URL:https://bjagroup.net/event/2024-nbaa-pdp-course-essentials-in-scheduling-dispatch-for-business-aviation/
LOCATION:Omni Forth Worth Hotel\, Sundance 2\, Forth Worth\, TX\, United States
ATTACH;FMTTYPE=image/jpeg:https://bjagroup.net/wp-content/uploads/2024/02/nbaa_2024_essentials_scheduling.jpg
END:VEVENT
BEGIN:VEVENT
DTSTART;VALUE=DATE:20240311
DTEND;VALUE=DATE:20240312
DTSTAMP:20260423T130227
CREATED:20240223T041827Z
LAST-MODIFIED:20240223T041827Z
UID:3063-1710115200-1710201599@bjagroup.net
SUMMARY:2024 NBAA PDP Course: Dynamics of Empowered Leadership
DESCRIPTION:Held prior to the 2024 NBAA Schedulers & Dispatchers Conference\, this one-day course trains attendees to lead from any seat in a dynamic workplace that is adapting to changing times. \nSome workplace challenges are obvious (interruptions\, awkward social interactions) and some are more subtle (passive-aggressive behaviors). Leadership empowers your team to work through these issues. \nLeadership also requires a strong degree of situational awareness of your own thoughts and actions\, and how they affect the behaviors of others. This course will cover the influence behavioral and communication styles have on your team interactions and operational safety. You will learn a variety of methods to motivate and mentor. Real-world examples and applications will be discussed.
URL:https://bjagroup.net/event/2024-nbaa-pdp-course-dynamics-of-empowered-leadership/
LOCATION:Omni Forth Worth Hotel\, Sundance 2\, Forth Worth\, TX\, United States
ATTACH;FMTTYPE=image/jpeg:https://bjagroup.net/wp-content/uploads/2024/02/nbaa_2024_dynamics_empowered.jpg
END:VEVENT
END:VCALENDAR